BEGIN:VCALENDAR
VERSION:2.0
PRODID:-//CVJM Familienarbeit - ECPv6.15.17.1//NONSGML v1.0//EN
CALSCALE:GREGORIAN
METHOD:PUBLISH
X-ORIGINAL-URL:https://cvjm-familienarbeit.de
X-WR-CALDESC:Veranstaltungen für CVJM Familienarbeit
REFRESH-INTERVAL;VALUE=DURATION:PT1H
X-Robots-Tag:noindex
X-PUBLISHED-TTL:PT1H
BEGIN:VTIMEZONE
TZID:Europe/Berlin
BEGIN:DAYLIGHT
TZOFFSETFROM:+0100
TZOFFSETTO:+0200
TZNAME:CEST
DTSTART:20250330T010000
END:DAYLIGHT
BEGIN:STANDARD
TZOFFSETFROM:+0200
TZOFFSETTO:+0100
TZNAME:CET
DTSTART:20251026T010000
END:STANDARD
BEGIN:DAYLIGHT
TZOFFSETFROM:+0100
TZOFFSETTO:+0200
TZNAME:CEST
DTSTART:20260329T010000
END:DAYLIGHT
BEGIN:STANDARD
TZOFFSETFROM:+0200
TZOFFSETTO:+0100
TZNAME:CET
DTSTART:20261025T010000
END:STANDARD
BEGIN:DAYLIGHT
TZOFFSETFROM:+0100
TZOFFSETTO:+0200
TZNAME:CEST
DTSTART:20270328T010000
END:DAYLIGHT
BEGIN:STANDARD
TZOFFSETFROM:+0200
TZOFFSETTO:+0100
TZNAME:CET
DTSTART:20271031T010000
END:STANDARD
END:VTIMEZONE
BEGIN:VEVENT
DTSTART;TZID=Europe/Berlin:20260428T150000
DTEND;TZID=Europe/Berlin:20260428T173000
DTSTAMP:20260426T031136
CREATED:20251203T133829Z
LAST-MODIFIED:20251203T133829Z
UID:10017870-1777388400-1777397400@cvjm-familienarbeit.de
SUMMARY:Spielplatztreff am breiten Pfuhl
DESCRIPTION:Einmal im Monat findet auf dem Spielplatz Am Breiten Pfuhl ein offener Spielplatztreff für alle Generationen statt. Die Veranstaltung wird ehrenamtlich organisiert und bietet eine wunderbare Gelegenheit\, sich zu begegnen\, miteinander ins Gespräch zu kommen\, neue Menschen kennenzulernen und natürlich gemeinsam zu spielen. Der Treff ist ein Ort der Begegnung\, des Zuhörens und der gelebten Nachbarschaft. \nAm 28. April sind auch wir dabei – und bringen unseren Spielanhänger mit! Wir bauen verschiedene Großspiele auf und freuen uns darauf\, euch zu treffen und Teil dieses schönen Spielplatztreffens zu sein. \nKommt gern vorbei und spielt mit uns!
URL:https://cvjm-familienarbeit.de/event/spielplatztreff-am-breiten-pfuhl/
LOCATION:Spielplatz am Breiten Pfuhl\, am breiten Pfuhl 38\, Halle (Saale)\, 06130
CATEGORIES:Familien,Gruppen und Begegnung
ATTACH;FMTTYPE=image/webp:https://cvjm-familienarbeit.de/wp-content/uploads/2025/12/8d2c9654-f3d5-4d77-9622-69978568cbb6.jpg.webp
END:VEVENT
END:VCALENDAR