BEGIN:VCALENDAR
VERSION:2.0
PRODID:-//CVJM Familienarbeit - ECPv6.15.17.1//NONSGML v1.0//EN
CALSCALE:GREGORIAN
METHOD:PUBLISH
X-ORIGINAL-URL:https://cvjm-familienarbeit.de
X-WR-CALDESC:Veranstaltungen für CVJM Familienarbeit
REFRESH-INTERVAL;VALUE=DURATION:PT1H
X-Robots-Tag:noindex
X-PUBLISHED-TTL:PT1H
BEGIN:VTIMEZONE
TZID:Europe/Berlin
BEGIN:DAYLIGHT
TZOFFSETFROM:+0100
TZOFFSETTO:+0200
TZNAME:CEST
DTSTART:20250330T010000
END:DAYLIGHT
BEGIN:STANDARD
TZOFFSETFROM:+0200
TZOFFSETTO:+0100
TZNAME:CET
DTSTART:20251026T010000
END:STANDARD
BEGIN:DAYLIGHT
TZOFFSETFROM:+0100
TZOFFSETTO:+0200
TZNAME:CEST
DTSTART:20260329T010000
END:DAYLIGHT
BEGIN:STANDARD
TZOFFSETFROM:+0200
TZOFFSETTO:+0100
TZNAME:CET
DTSTART:20261025T010000
END:STANDARD
BEGIN:DAYLIGHT
TZOFFSETFROM:+0100
TZOFFSETTO:+0200
TZNAME:CEST
DTSTART:20270328T010000
END:DAYLIGHT
BEGIN:STANDARD
TZOFFSETFROM:+0200
TZOFFSETTO:+0100
TZNAME:CET
DTSTART:20271031T010000
END:STANDARD
END:VTIMEZONE
BEGIN:VEVENT
DTSTART;TZID=Europe/Berlin:20260425T140000
DTEND;TZID=Europe/Berlin:20260425T170000
DTSTAMP:20260421T212034
CREATED:20250225T082036Z
LAST-MODIFIED:20251216T144117Z
UID:10017576-1777125600-1777136400@cvjm-familienarbeit.de
SUMMARY:Schatzsuche für Paare
DESCRIPTION:Packt festes Schuhwerk ein und macht euch auf eine spannende Reise durch die Heide: hin zu den Schätzen und Reichtümern eurer Partnerschaft! \nWir treffen uns in der Heide\, um dann zu zweit auf Schatzsuche zu gehen. Dazu gibt es natürlich eine Schatzkarte und eine kleine Stärkung für zwischendurch.  Kleinere Kinder im Kinderwagen können mitgenommen werden\, sofern es eure Zweisamkeit nicht zu sehr einschränkt. Für Kinder ab 3 Jahren ist eine Kinderbetreuung vor Ort inklusive. \nKosten: 20-50€ pro Paar (Bezahlung vor Ort) nach Slebsteinschätzung
URL:https://cvjm-familienarbeit.de/event/schatzsuche-fuer-paare/
LOCATION:Am Waldkater\, Heide
CATEGORIES:Paare
ATTACH;FMTTYPE=image/png:https://cvjm-familienarbeit.de/wp-content/uploads/2024/03/1-1.png
END:VEVENT
END:VCALENDAR