BEGIN:VCALENDAR
VERSION:2.0
PRODID:-//CVJM Familienarbeit - ECPv6.15.17.1//NONSGML v1.0//EN
CALSCALE:GREGORIAN
METHOD:PUBLISH
X-WR-CALNAME:CVJM Familienarbeit
X-ORIGINAL-URL:https://cvjm-familienarbeit.de
X-WR-CALDESC:Veranstaltungen für CVJM Familienarbeit
REFRESH-INTERVAL;VALUE=DURATION:PT1H
X-Robots-Tag:noindex
X-PUBLISHED-TTL:PT1H
BEGIN:VTIMEZONE
TZID:Europe/Berlin
BEGIN:DAYLIGHT
TZOFFSETFROM:+0100
TZOFFSETTO:+0200
TZNAME:CEST
DTSTART:20250330T010000
END:DAYLIGHT
BEGIN:STANDARD
TZOFFSETFROM:+0200
TZOFFSETTO:+0100
TZNAME:CET
DTSTART:20251026T010000
END:STANDARD
BEGIN:DAYLIGHT
TZOFFSETFROM:+0100
TZOFFSETTO:+0200
TZNAME:CEST
DTSTART:20260329T010000
END:DAYLIGHT
BEGIN:STANDARD
TZOFFSETFROM:+0200
TZOFFSETTO:+0100
TZNAME:CET
DTSTART:20261025T010000
END:STANDARD
BEGIN:DAYLIGHT
TZOFFSETFROM:+0100
TZOFFSETTO:+0200
TZNAME:CEST
DTSTART:20270328T010000
END:DAYLIGHT
BEGIN:STANDARD
TZOFFSETFROM:+0200
TZOFFSETTO:+0100
TZNAME:CET
DTSTART:20271031T010000
END:STANDARD
END:VTIMEZONE
BEGIN:VEVENT
DTSTART;TZID=Europe/Berlin:20260606T150000
DTEND;TZID=Europe/Berlin:20260606T180000
DTSTAMP:20260421T194047
CREATED:20231129T072226Z
LAST-MODIFIED:20251217T125140Z
UID:10017878-1780758000-1780768800@cvjm-familienarbeit.de
SUMMARY:Romantisches Picknick für Paare
DESCRIPTION:Einfach eine entspannte Zeit zu zweit haben\, Leckeres essen\, den Frühsommer genießen – und die Kinder sind gut betreut.\nAll das ist bei unserem „Romantischen Picknick“ möglich! \nDas Angebot enthält Köstlichkeiten\, Geschirr und Decke für ein romantisches Picknick zu zweit\, dazu Gesprächsanregungen für einen intensiven Austausch über die Partnerschaft. Während der Zeit wird eine Kinderbetreuung für Kinder ab 3 Jahren auf dem Baschkirischen Spielplatz “ (direkt daneben) angeboten. \nGenauer Treffpunkt und nähere Informationen erhalten Sie nach erfolgter Anmeldung circa zwei Wochen vor Veranstaltungsbeginn. \nPro Paar bitten wir um eine Teilnahmegebühr von 40 Euro.
URL:https://cvjm-familienarbeit.de/event/romantisches-picknick-fuer-paare-2/
LOCATION:An der Fontäne\, Peißnitz
CATEGORIES:Eltern
ATTACH;FMTTYPE=image/png:https://cvjm-familienarbeit.de/wp-content/uploads/2023/11/Bildschirmfoto-2023-11-29-um-12.46.20.png
ORGANIZER;CN="Malin Gerster":MAILTO:gerster@cvjm-familienarbeit.de
END:VEVENT
END:VCALENDAR